BEGIN:VCALENDAR
VERSION:2.0
PRODID:-//mein Sportplatz - ECPv6.15.17.1//NONSGML v1.0//EN
CALSCALE:GREGORIAN
METHOD:PUBLISH
X-ORIGINAL-URL:https://www.meinsportplatz.at
X-WR-CALDESC:Veranstaltungen für mein Sportplatz
REFRESH-INTERVAL;VALUE=DURATION:PT1H
X-Robots-Tag:noindex
X-PUBLISHED-TTL:PT1H
BEGIN:VTIMEZONE
TZID:Europe/Berlin
BEGIN:DAYLIGHT
TZOFFSETFROM:+0100
TZOFFSETTO:+0200
TZNAME:CEST
DTSTART:20230326T010000
END:DAYLIGHT
BEGIN:STANDARD
TZOFFSETFROM:+0200
TZOFFSETTO:+0100
TZNAME:CET
DTSTART:20231029T010000
END:STANDARD
BEGIN:DAYLIGHT
TZOFFSETFROM:+0100
TZOFFSETTO:+0200
TZNAME:CEST
DTSTART:20240331T010000
END:DAYLIGHT
BEGIN:STANDARD
TZOFFSETFROM:+0200
TZOFFSETTO:+0100
TZNAME:CET
DTSTART:20241027T010000
END:STANDARD
BEGIN:DAYLIGHT
TZOFFSETFROM:+0100
TZOFFSETTO:+0200
TZNAME:CEST
DTSTART:20250330T010000
END:DAYLIGHT
BEGIN:STANDARD
TZOFFSETFROM:+0200
TZOFFSETTO:+0100
TZNAME:CET
DTSTART:20251026T010000
END:STANDARD
END:VTIMEZONE
BEGIN:VEVENT
DTSTART;TZID=Europe/Berlin:20240802T140000
DTEND;TZID=Europe/Berlin:20240802T170000
DTSTAMP:20260425T144701
CREATED:20200207T125730Z
LAST-MODIFIED:20200207T125730Z
UID:5062-1722607200-1722618000@www.meinsportplatz.at
SUMMARY:Film Festival – Sportaction und Kinderopern Festival
DESCRIPTION:Tore schießen\, Bälle werfen\, Riesendart spielen\, Schach ausprobieren\, auf einer Airtrack laufen und\, und\, und – das und vieles mehr bietet das Aktivprogramm der Initiative „Bewegung findet Stadt“. Jeden Freitag ab 14 Uhr können Kinder von 6 bis 14 Jahren bei den betreuten Stationen nach Herzenslust herumturnen und sich so richtig austoben. Das Angebot wechselt zudem jede Woche\, langweilig wird es also nie. Und das Beste daran: Mitmachen ist kostenlos! \nAb 17 Uhr können junge MusikliebhaberInnen von sechs bis 14 Jahren kostenlos Opernverfilmungen und Kindermusikproduktionen auf einer tageslichttauglichen LED-Wand im Rathauspark genießen.
URL:https://www.meinsportplatz.at/event/film-festival-kinderopern-festival-mit-aktivprogramm-8-2024-08-02/
CATEGORIES:2024,Mitmach-Angebot
ATTACH;FMTTYPE=image/jpeg:https://www.meinsportplatz.at/wp-content/uploads/2020/02/©-stadtwienmarketing2.jpg
END:VEVENT
BEGIN:VEVENT
DTSTART;TZID=Europe/Berlin:20240809T140000
DTEND;TZID=Europe/Berlin:20240809T170000
DTSTAMP:20260425T144701
CREATED:20200207T125730Z
LAST-MODIFIED:20200207T125730Z
UID:5063-1723212000-1723222800@www.meinsportplatz.at
SUMMARY:Film Festival – Sportaction und Kinderopern Festival
DESCRIPTION:Tore schießen\, Bälle werfen\, Riesendart spielen\, Schach ausprobieren\, auf einer Airtrack laufen und\, und\, und – das und vieles mehr bietet das Aktivprogramm der Initiative „Bewegung findet Stadt“. Jeden Freitag ab 14 Uhr können Kinder von 6 bis 14 Jahren bei den betreuten Stationen nach Herzenslust herumturnen und sich so richtig austoben. Das Angebot wechselt zudem jede Woche\, langweilig wird es also nie. Und das Beste daran: Mitmachen ist kostenlos! \nAb 17 Uhr können junge MusikliebhaberInnen von sechs bis 14 Jahren kostenlos Opernverfilmungen und Kindermusikproduktionen auf einer tageslichttauglichen LED-Wand im Rathauspark genießen.
URL:https://www.meinsportplatz.at/event/film-festival-kinderopern-festival-mit-aktivprogramm-8-2024-08-09/
CATEGORIES:2024,Mitmach-Angebot
ATTACH;FMTTYPE=image/jpeg:https://www.meinsportplatz.at/wp-content/uploads/2020/02/©-stadtwienmarketing2.jpg
END:VEVENT
BEGIN:VEVENT
DTSTART;TZID=Europe/Berlin:20240816T140000
DTEND;TZID=Europe/Berlin:20240816T170000
DTSTAMP:20260425T144701
CREATED:20200207T125730Z
LAST-MODIFIED:20200207T125730Z
UID:5064-1723816800-1723827600@www.meinsportplatz.at
SUMMARY:Film Festival – Sportaction und Kinderopern Festival
DESCRIPTION:Tore schießen\, Bälle werfen\, Riesendart spielen\, Schach ausprobieren\, auf einer Airtrack laufen und\, und\, und – das und vieles mehr bietet das Aktivprogramm der Initiative „Bewegung findet Stadt“. Jeden Freitag ab 14 Uhr können Kinder von 6 bis 14 Jahren bei den betreuten Stationen nach Herzenslust herumturnen und sich so richtig austoben. Das Angebot wechselt zudem jede Woche\, langweilig wird es also nie. Und das Beste daran: Mitmachen ist kostenlos! \nAb 17 Uhr können junge MusikliebhaberInnen von sechs bis 14 Jahren kostenlos Opernverfilmungen und Kindermusikproduktionen auf einer tageslichttauglichen LED-Wand im Rathauspark genießen.
URL:https://www.meinsportplatz.at/event/film-festival-kinderopern-festival-mit-aktivprogramm-8-2024-08-16/
CATEGORIES:2024,Mitmach-Angebot
ATTACH;FMTTYPE=image/jpeg:https://www.meinsportplatz.at/wp-content/uploads/2020/02/©-stadtwienmarketing2.jpg
END:VEVENT
BEGIN:VEVENT
DTSTART;TZID=Europe/Berlin:20240823T140000
DTEND;TZID=Europe/Berlin:20240823T170000
DTSTAMP:20260425T144701
CREATED:20200207T125730Z
LAST-MODIFIED:20200207T125730Z
UID:5065-1724421600-1724432400@www.meinsportplatz.at
SUMMARY:Film Festival – Sportaction und Kinderopern Festival
DESCRIPTION:Tore schießen\, Bälle werfen\, Riesendart spielen\, Schach ausprobieren\, auf einer Airtrack laufen und\, und\, und – das und vieles mehr bietet das Aktivprogramm der Initiative „Bewegung findet Stadt“. Jeden Freitag ab 14 Uhr können Kinder von 6 bis 14 Jahren bei den betreuten Stationen nach Herzenslust herumturnen und sich so richtig austoben. Das Angebot wechselt zudem jede Woche\, langweilig wird es also nie. Und das Beste daran: Mitmachen ist kostenlos! \nAb 17 Uhr können junge MusikliebhaberInnen von sechs bis 14 Jahren kostenlos Opernverfilmungen und Kindermusikproduktionen auf einer tageslichttauglichen LED-Wand im Rathauspark genießen.
URL:https://www.meinsportplatz.at/event/film-festival-kinderopern-festival-mit-aktivprogramm-8-2024-08-23/
CATEGORIES:2024,Mitmach-Angebot
ATTACH;FMTTYPE=image/jpeg:https://www.meinsportplatz.at/wp-content/uploads/2020/02/©-stadtwienmarketing2.jpg
END:VEVENT
BEGIN:VEVENT
DTSTART;TZID=Europe/Berlin:20240830T140000
DTEND;TZID=Europe/Berlin:20240830T170000
DTSTAMP:20260425T144701
CREATED:20200207T125730Z
LAST-MODIFIED:20200207T125730Z
UID:5066-1725026400-1725037200@www.meinsportplatz.at
SUMMARY:Film Festival – Sportaction und Kinderopern Festival
DESCRIPTION:Tore schießen\, Bälle werfen\, Riesendart spielen\, Schach ausprobieren\, auf einer Airtrack laufen und\, und\, und – das und vieles mehr bietet das Aktivprogramm der Initiative „Bewegung findet Stadt“. Jeden Freitag ab 14 Uhr können Kinder von 6 bis 14 Jahren bei den betreuten Stationen nach Herzenslust herumturnen und sich so richtig austoben. Das Angebot wechselt zudem jede Woche\, langweilig wird es also nie. Und das Beste daran: Mitmachen ist kostenlos! \nAb 17 Uhr können junge MusikliebhaberInnen von sechs bis 14 Jahren kostenlos Opernverfilmungen und Kindermusikproduktionen auf einer tageslichttauglichen LED-Wand im Rathauspark genießen.
URL:https://www.meinsportplatz.at/event/film-festival-kinderopern-festival-mit-aktivprogramm-8-2024-08-30/
CATEGORIES:2024,Mitmach-Angebot
ATTACH;FMTTYPE=image/jpeg:https://www.meinsportplatz.at/wp-content/uploads/2020/02/©-stadtwienmarketing2.jpg
END:VEVENT
END:VCALENDAR