BEGIN:VCALENDAR
VERSION:2.0
PRODID:-//mein Sportplatz - ECPv6.15.17.1//NONSGML v1.0//EN
CALSCALE:GREGORIAN
METHOD:PUBLISH
X-WR-CALNAME:mein Sportplatz
X-ORIGINAL-URL:https://www.meinsportplatz.at
X-WR-CALDESC:Veranstaltungen für mein Sportplatz
REFRESH-INTERVAL;VALUE=DURATION:PT1H
X-Robots-Tag:noindex
X-PUBLISHED-TTL:PT1H
BEGIN:VTIMEZONE
TZID:Europe/Vienna
BEGIN:DAYLIGHT
TZOFFSETFROM:+0100
TZOFFSETTO:+0200
TZNAME:CEST
DTSTART:20240331T010000
END:DAYLIGHT
BEGIN:STANDARD
TZOFFSETFROM:+0200
TZOFFSETTO:+0100
TZNAME:CET
DTSTART:20241027T010000
END:STANDARD
BEGIN:DAYLIGHT
TZOFFSETFROM:+0100
TZOFFSETTO:+0200
TZNAME:CEST
DTSTART:20250330T010000
END:DAYLIGHT
BEGIN:STANDARD
TZOFFSETFROM:+0200
TZOFFSETTO:+0100
TZNAME:CET
DTSTART:20251026T010000
END:STANDARD
BEGIN:DAYLIGHT
TZOFFSETFROM:+0100
TZOFFSETTO:+0200
TZNAME:CEST
DTSTART:20260329T010000
END:DAYLIGHT
BEGIN:STANDARD
TZOFFSETFROM:+0200
TZOFFSETTO:+0100
TZNAME:CET
DTSTART:20261025T010000
END:STANDARD
END:VTIMEZONE
BEGIN:VEVENT
DTSTART;TZID=Europe/Vienna:20251004T083000
DTEND;TZID=Europe/Vienna:20251004T120000
DTSTAMP:20260425T122753
CREATED:20251004T082505Z
LAST-MODIFIED:20251004T082505Z
UID:5829-1759566600-1759579200@www.meinsportplatz.at
SUMMARY:Run Vienna 1:59
DESCRIPTION:Auf den Spuren von Eliud Kipchoges Rekordlauf Start auf der Wiener Reichsbrücke Laufe auf Eliud’s Originalstrecke durch den Prater mindestens 4\,0 km oder so weit du kannst und magst in 01:59:40. \n\nSamstag 4. Oktober 2025- Start 08:15 Uhr\nFinish um 10:14:59 Uhr
URL:https://www.meinsportplatz.at/event/run-vienna-159/
CATEGORIES:2025,Mitmach-Angebot
ATTACH;FMTTYPE=image/png:https://www.meinsportplatz.at/wp-content/uploads/2025/03/KV_SW_Mein_SportPlatz_Morgenrot_171x112.png
ORGANIZER;CN="Kultur und Sportverein Eliud 1%3A59":MAILTO:info@runvienna159.com
END:VEVENT
END:VCALENDAR