BEGIN:VCALENDAR
VERSION:2.0
PRODID:-//mein Sportplatz - ECPv6.15.17.1//NONSGML v1.0//EN
CALSCALE:GREGORIAN
METHOD:PUBLISH
X-WR-CALNAME:mein Sportplatz
X-ORIGINAL-URL:https://www.meinsportplatz.at
X-WR-CALDESC:Veranstaltungen für mein Sportplatz
REFRESH-INTERVAL;VALUE=DURATION:PT1H
X-Robots-Tag:noindex
X-PUBLISHED-TTL:PT1H
BEGIN:VTIMEZONE
TZID:Europe/Vienna
BEGIN:DAYLIGHT
TZOFFSETFROM:+0100
TZOFFSETTO:+0200
TZNAME:CEST
DTSTART:20240331T010000
END:DAYLIGHT
BEGIN:STANDARD
TZOFFSETFROM:+0200
TZOFFSETTO:+0100
TZNAME:CET
DTSTART:20241027T010000
END:STANDARD
BEGIN:DAYLIGHT
TZOFFSETFROM:+0100
TZOFFSETTO:+0200
TZNAME:CEST
DTSTART:20250330T010000
END:DAYLIGHT
BEGIN:STANDARD
TZOFFSETFROM:+0200
TZOFFSETTO:+0100
TZNAME:CET
DTSTART:20251026T010000
END:STANDARD
BEGIN:DAYLIGHT
TZOFFSETFROM:+0100
TZOFFSETTO:+0200
TZNAME:CEST
DTSTART:20260329T010000
END:DAYLIGHT
BEGIN:STANDARD
TZOFFSETFROM:+0200
TZOFFSETTO:+0100
TZNAME:CET
DTSTART:20261025T010000
END:STANDARD
END:VTIMEZONE
BEGIN:VEVENT
DTSTART;TZID=Europe/Vienna:20250629T140000
DTEND;TZID=Europe/Vienna:20250629T190000
DTSTAMP:20260423T114454
CREATED:20250529T091422Z
LAST-MODIFIED:20250529T091621Z
UID:5770-1751205600-1751223600@www.meinsportplatz.at
SUMMARY:Wiener Ferienspiel Startfest - Sonntag
DESCRIPTION:Das Startfest findet im Donaupark\, 1220 Wien\, Arbeiterstrandbadstraße 122 statt. Viele tolle Mitmach-Stationen warten auf die Gäste. Sie können bei freiem Eintritt nach Lust und Laune einen Kletterturm erklimmen\, den Straßenbahn-Fahrsimulator ausprobieren\, basteln\, malen und euch schminken lassen. Selbstverständlich bringt die Spielebox viele viele tolle Spiele mit und das Cinemagic begeistert euch mit seinem Outdoor-Kino.
URL:https://www.meinsportplatz.at/event/wiener-ferienspiel-startfest/
LOCATION:Donaupark\, Arbeiterstrandbadstraße 122\, Wien\, Wien\, 1220\, Austria
CATEGORIES:2025,Mitmach-Angebot
ATTACH;FMTTYPE=image/jpeg:https://www.meinsportplatz.at/wp-content/uploads/2025/03/26-KPP_4841-Verbessert-RR.jpg
ORGANIZER;CN="WIENXTRA":MAILTO:office@wienxtra.at
END:VEVENT
END:VCALENDAR