BEGIN:VCALENDAR
VERSION:2.0
PRODID:-//mein Sportplatz - ECPv6.15.17.1//NONSGML v1.0//EN
CALSCALE:GREGORIAN
METHOD:PUBLISH
X-ORIGINAL-URL:https://www.meinsportplatz.at
X-WR-CALDESC:Veranstaltungen für mein Sportplatz
REFRESH-INTERVAL;VALUE=DURATION:PT1H
X-Robots-Tag:noindex
X-PUBLISHED-TTL:PT1H
BEGIN:VTIMEZONE
TZID:Europe/Vienna
BEGIN:DAYLIGHT
TZOFFSETFROM:+0100
TZOFFSETTO:+0200
TZNAME:CEST
DTSTART:20240331T010000
END:DAYLIGHT
BEGIN:STANDARD
TZOFFSETFROM:+0200
TZOFFSETTO:+0100
TZNAME:CET
DTSTART:20241027T010000
END:STANDARD
BEGIN:DAYLIGHT
TZOFFSETFROM:+0100
TZOFFSETTO:+0200
TZNAME:CEST
DTSTART:20250330T010000
END:DAYLIGHT
BEGIN:STANDARD
TZOFFSETFROM:+0200
TZOFFSETTO:+0100
TZNAME:CET
DTSTART:20251026T010000
END:STANDARD
BEGIN:DAYLIGHT
TZOFFSETFROM:+0100
TZOFFSETTO:+0200
TZNAME:CEST
DTSTART:20260329T010000
END:DAYLIGHT
BEGIN:STANDARD
TZOFFSETFROM:+0200
TZOFFSETTO:+0100
TZNAME:CET
DTSTART:20261025T010000
END:STANDARD
END:VTIMEZONE
BEGIN:VEVENT
DTSTART;TZID=Europe/Vienna:20250607T204500
DTEND;TZID=Europe/Vienna:20250607T223000
DTSTAMP:20260423T114730
CREATED:20250529T084405Z
LAST-MODIFIED:20250529T084405Z
UID:5758-1749329100-1749335400@www.meinsportplatz.at
SUMMARY:ÖFB Landermatch Österreich - Rumänien
DESCRIPTION:Das FIFA European Qualifiers Match ist eine weitere wichtige Begegnung auf dem Weg des heimischen Nationalteams zur Weltmeisterschaft 2026.
URL:https://www.meinsportplatz.at/event/oefb-landermatch-oesterreich-rumaenien/
LOCATION:Ernst-Happel-Stadion\, Meiereistraße\, Wien\, Wien\, 1020\, Austria
CATEGORIES:2025,Mitmach-Angebot
ATTACH;FMTTYPE=image/png:https://www.meinsportplatz.at/wp-content/uploads/2025/03/KV_SW_Mein_SportPlatz_Morgenrot_171x112.png
ORGANIZER;CN="%C3%96sterreichischer Fu%C3%9Fball Bund":MAILTO:office@oefb.at
END:VEVENT
END:VCALENDAR